BEGIN:VCALENDAR
VERSION:2.0
PRODID:-//KULTURLADEN ST. GEORG e.V. / Hamburg - ECPv6.15.8//NONSGML v1.0//EN
CALSCALE:GREGORIAN
METHOD:PUBLISH
X-WR-CALNAME:KULTURLADEN ST. GEORG e.V. / Hamburg
X-ORIGINAL-URL:https://kulturladen.com
X-WR-CALDESC:Veranstaltungen für KULTURLADEN ST. GEORG e.V. / Hamburg
REFRESH-INTERVAL;VALUE=DURATION:PT1H
X-Robots-Tag:noindex
X-PUBLISHED-TTL:PT1H
BEGIN:VTIMEZONE
TZID:UTC
BEGIN:STANDARD
TZOFFSETFROM:+0000
TZOFFSETTO:+0000
TZNAME:UTC
DTSTART:20230101T000000
END:STANDARD
END:VTIMEZONE
BEGIN:VEVENT
DTSTART;TZID=UTC:20240621T200000
DTEND;TZID=UTC:20240621T220000
DTSTAMP:20260421T094806
CREATED:20240508T111333Z
LAST-MODIFIED:20240610T095614Z
UID:7199-1719000000-1719007200@kulturladen.com
SUMMARY:Veit Sprenger liest aus seinem Buch:  „Wie sie im Vergnügungspark ihre Toten bestatten“
DESCRIPTION:Veit Sprenger arbeitete als Krankenpfleger\, Unterhaltungsmusiker\, Haushaltshilfe\, Erzieher\, Lieferant und Journalist. Er studierte Medizin in Frankfurt a. M. und Theater in Gießen. Er ist Gründungsmitglied der Künstlergruppe Showcase Beat Le Mot\, mit der er weltweit mehr als vierzig Theaterstücke entwickelt und aufgeführt hat. Er war Co-Kurator internationaler Ausstellungen und Festivals und produzierte Kurzfilme\, Musikvideos und Radiohörspiele. Als Autor und Theatermacher arbeitete er u. a. mit Thies Mynther (Phantom Ghost)\, Gudrun Gut\, Alex Murray-Leslie (Chicks on Speed) und Andreas Dorau zusammen. Seine Schriften zum Theater wurden u.a. bei Theater heute\, tanz und kunstforum veröffentlicht und in mehrere Sprachen übersetzt. \nFreitag\, 21.06.2024\, 20:00 Uhr\, 8 €/ 5 €
URL:https://kulturladen.com/event/veith-sprenger-liest-aus-seinem-buch-wie-sie-im-vergnuegungspark-ihre-toten-bestatten
LOCATION:Hamburg
CATEGORIES:Lesung
END:VEVENT
END:VCALENDAR