BEGIN:VCALENDAR
VERSION:2.0
PRODID:-//KULTURLADEN ST. GEORG e.V. / Hamburg - ECPv6.15.8//NONSGML v1.0//EN
CALSCALE:GREGORIAN
METHOD:PUBLISH
X-WR-CALNAME:KULTURLADEN ST. GEORG e.V. / Hamburg
X-ORIGINAL-URL:https://kulturladen.com
X-WR-CALDESC:Veranstaltungen für KULTURLADEN ST. GEORG e.V. / Hamburg
REFRESH-INTERVAL;VALUE=DURATION:PT1H
X-Robots-Tag:noindex
X-PUBLISHED-TTL:PT1H
BEGIN:VTIMEZONE
TZID:UTC
BEGIN:STANDARD
TZOFFSETFROM:+0000
TZOFFSETTO:+0000
TZNAME:UTC
DTSTART:20250101T000000
END:STANDARD
END:VTIMEZONE
BEGIN:VEVENT
DTSTART;TZID=UTC:20260313T200000
DTEND;TZID=UTC:20260313T220000
DTSTAMP:20260425T111721
CREATED:20260219T154735Z
LAST-MODIFIED:20260219T154735Z
UID:9183-1773432000-1773439200@kulturladen.com
SUMMARY:Jazzmeile | Tief Traum
DESCRIPTION:Jazzmeile | Tief Traum\nDas Projekt Tief Traum von Juan Pablo Ortiz ist eine Fusion aus kollektiver Improvisation\, ungeraden Metren und visueller Kunst.\nInspiriert von Landschaften und sozialen Spannungen Ecuadors entsteht ein frischer\, freier und sehr persönlicher Sound.\nDie in Hamburg geschriebenen Kompositionen spiegeln die Verbindung südamerikanischer Identität mit klanglicher Erkundung in einem neuen Umfeld.\nBei dieser Jazzmeile trifft zeitgenössischer Jazz auf südamerikanische Klänge\, Texturen und Geschichten. \nJuan Pablo Ortiz | Gitarre\, Kompositionen\nSebastian Sarre | Trompete\, Flügelhorn\nCaspar Rutsch | Tenorsax\, Klarinette\nJulian Grüneberg | Kontrabass\nChicho Castillo | Schlagzeug \nFreitag\, 13.03.2026  |  20:00 Uhr  |  Abendkasse 12€/9€ ermäßigt\nReservierung erwünscht: info@kulturladen.com (Zahlung an der Abendkasse)
URL:https://kulturladen.com/event/jazzmeile-tief-traum
LOCATION:Kulturladen St.Georg\, Alexanderstraße 16\, Hamburg\, 20099\, Deutschland
CATEGORIES:Jazz,Konzert
ATTACH;FMTTYPE=image/jpeg:https://kulturladen.com/wp-content/uploads/2026/02/DSC8206_c_Daniel-Reascos-scaled-e1771515799101.jpg
END:VEVENT
END:VCALENDAR