BEGIN:VCALENDAR
VERSION:2.0
PRODID:-//KULTURLADEN ST. GEORG e.V. / Hamburg - ECPv6.15.8//NONSGML v1.0//EN
CALSCALE:GREGORIAN
METHOD:PUBLISH
X-ORIGINAL-URL:https://kulturladen.com
X-WR-CALDESC:Veranstaltungen für KULTURLADEN ST. GEORG e.V. / Hamburg
REFRESH-INTERVAL;VALUE=DURATION:PT1H
X-Robots-Tag:noindex
X-PUBLISHED-TTL:PT1H
BEGIN:VTIMEZONE
TZID:UTC
BEGIN:STANDARD
TZOFFSETFROM:+0000
TZOFFSETTO:+0000
TZNAME:UTC
DTSTART:20250101T000000
END:STANDARD
END:VTIMEZONE
BEGIN:VEVENT
DTSTART;TZID=UTC:20260317T100000
DTEND;TZID=UTC:20260317T110000
DTSTAMP:20260422T102104
CREATED:20260219T143813Z
LAST-MODIFIED:20260219T143813Z
UID:9159-1773741600-1773745200@kulturladen.com
SUMMARY:Kinderkonzert: Hexe Knickebein "Lieblingslieder"
DESCRIPTION:Kinderkonzert: Hexe Knickebein „Lieblingslieder“\nMöchtest du wissen wie Entengrütze mit Lakritze schmeckt?\nMöchtest du mit Eselsgebiss und Waldteufel musizieren?\nDann könnt ihr auf dem Hexe Knickebein Kinderkonzert erleben! \nCatharina Caspar singt lustige Lieder von der Stadtmaus und dem Landmäuserich\, von den drei Bauarbeitern oder den Räubern\, die aus Rüben und Fliegenpilz eine Suppe brauen.\nLerne Kegel und Kugel im Zirkus Geometrikus kennen\, spiel mit dem Waldgeist Verstecken und finde den gestohlenen Zauberring wieder.  \nMit einfachen Musikinstrumenten oder Verkleidungen werden die Kinder zum Mitmachen und Musizieren eingeladen. \nDienstag\, 17.03.2026. |  Beginn 10:00 Uhr\nEintritt: 4\,00€ (Kinder)\, 6\,00€ (Erwachsene) \nGruppen bitte anmelden unter 040 280 54 862. Danke!
URL:https://kulturladen.com/event/kinderkonzert-hexe-knickebein-lieblingslieder
LOCATION:Kulturladen St.Georg\, Alexanderstraße 16\, Hamburg\, 20099\, Deutschland
CATEGORIES:Kinder,Konzert
ATTACH;FMTTYPE=image/jpeg:https://kulturladen.com/wp-content/uploads/2026/02/Grafik-Hexe-Knickebein-copyright-Catharina-Caspar-e1771511777345.jpeg
END:VEVENT
END:VCALENDAR