BEGIN:VCALENDAR
VERSION:2.0
PRODID:-//KULTURLADEN ST. GEORG e.V. / Hamburg - ECPv6.15.8//NONSGML v1.0//EN
CALSCALE:GREGORIAN
METHOD:PUBLISH
X-WR-CALNAME:KULTURLADEN ST. GEORG e.V. / Hamburg
X-ORIGINAL-URL:https://kulturladen.com
X-WR-CALDESC:Veranstaltungen für KULTURLADEN ST. GEORG e.V. / Hamburg
REFRESH-INTERVAL;VALUE=DURATION:PT1H
X-Robots-Tag:noindex
X-PUBLISHED-TTL:PT1H
BEGIN:VTIMEZONE
TZID:UTC
BEGIN:STANDARD
TZOFFSETFROM:+0000
TZOFFSETTO:+0000
TZNAME:UTC
DTSTART:20250101T000000
END:STANDARD
END:VTIMEZONE
BEGIN:VEVENT
DTSTART;TZID=UTC:20260424T110000
DTEND;TZID=UTC:20260424T120000
DTSTAMP:20260420T122926
CREATED:20260316T154028Z
LAST-MODIFIED:20260316T154028Z
UID:9257-1777028400-1777032000@kulturladen.com
SUMMARY:Kindertheater | Störtebekers Schatz 
DESCRIPTION:Kindertheater | Störtebekers Schatz\nHast du schon einmal davon geträumt\, einen Piratenschatz zu finden? Onnen Fisser\, ein armer Fischerjunge\, lebt auf der Insel Borkum. Er glaubt ganz fest daran\, in den Dünen den vergrabenen Schatz des berühmtesten Piraten der Nordsee zu finden: Störtebekers Schatz. Und dann passiert eines Tages etwas Wunderbares\, das sein Leben völlig verändert… \nAlter: 4 – 10 Jahre\nDauer: ca. 45min \nEine Produktion von: „Hamännchen und Companie“\nIdee und Spiel: Birgit Hamann\nRegie: Johanna Pätzold \nFreitag\, 24.04.26  |  11:00 Uhr\nEintritt: Kinder 4€/ Erwachsene 6€
URL:https://kulturladen.com/event/kindertheater-stoertebekers-schatz
LOCATION:Kulturladen St.Georg\, Alexanderstraße 16\, Hamburg\, 20099\, Deutschland
CATEGORIES:Kinder,Theater
ATTACH;FMTTYPE=image/jpeg:https://kulturladen.com/wp-content/uploads/2026/03/Stoertebeker-©-Birgit-Hamann-scaled.jpg
END:VEVENT
END:VCALENDAR