BEGIN:VCALENDAR
VERSION:2.0
PRODID:-//KULTURLADEN ST. GEORG e.V. / Hamburg - ECPv6.15.8//NONSGML v1.0//EN
CALSCALE:GREGORIAN
METHOD:PUBLISH
X-WR-CALNAME:KULTURLADEN ST. GEORG e.V. / Hamburg
X-ORIGINAL-URL:https://kulturladen.com
X-WR-CALDESC:Veranstaltungen für KULTURLADEN ST. GEORG e.V. / Hamburg
REFRESH-INTERVAL;VALUE=DURATION:PT1H
X-Robots-Tag:noindex
X-PUBLISHED-TTL:PT1H
BEGIN:VTIMEZONE
TZID:UTC
BEGIN:STANDARD
TZOFFSETFROM:+0000
TZOFFSETTO:+0000
TZNAME:UTC
DTSTART:20230101T000000
END:STANDARD
END:VTIMEZONE
BEGIN:VEVENT
DTSTART;TZID=UTC:20240614T103000
DTEND;TZID=UTC:20240614T110000
DTSTAMP:20260423T123615
CREATED:20240508T111642Z
LAST-MODIFIED:20240605T161024Z
UID:7206-1718361000-1718362800@kulturladen.com
SUMMARY:"Das hässliche Entlein" -  Mitmachtheater ab 3 Jahren
DESCRIPTION:  \n\nFreitag\, 14. Juni 2023\, 10:30 Uhr\, Kinder 3 €\, Erwachsene 5 €\nClaudia Buchholz lässt mit Hilfe der Kinder das dänische \nMärchen vom hässlichen armen Entlein von Hans Christian \nAndersen lebendig werden.
URL:https://kulturladen.com/event/das-haessliche-entlein-mitmachtheater-ab-3-jahren
CATEGORIES:Theater
END:VEVENT
END:VCALENDAR