BEGIN:VCALENDAR
VERSION:2.0
PRODID:-//KULTURLADEN ST. GEORG e.V. / Hamburg - ECPv6.15.8//NONSGML v1.0//EN
CALSCALE:GREGORIAN
METHOD:PUBLISH
X-WR-CALNAME:KULTURLADEN ST. GEORG e.V. / Hamburg
X-ORIGINAL-URL:https://kulturladen.com
X-WR-CALDESC:Veranstaltungen für KULTURLADEN ST. GEORG e.V. / Hamburg
REFRESH-INTERVAL;VALUE=DURATION:PT1H
X-Robots-Tag:noindex
X-PUBLISHED-TTL:PT1H
BEGIN:VTIMEZONE
TZID:UTC
BEGIN:STANDARD
TZOFFSETFROM:+0000
TZOFFSETTO:+0000
TZNAME:UTC
DTSTART:20230101T000000
END:STANDARD
END:VTIMEZONE
BEGIN:VEVENT
DTSTART;TZID=UTC:20241013T180000
DTEND;TZID=UTC:20241013T200000
DTSTAMP:20260421T113437
CREATED:20240904T165112Z
LAST-MODIFIED:20240904T165112Z
UID:7396-1728842400-1728849600@kulturladen.com
SUMMARY:Konzert: Aleksey Revenko
DESCRIPTION:  \nSonntag\, 13. Oktober 18.00 Uhr\, Eintritt frei \n  \nDer ukrainische Musiker Alekesy Revenko lädt ein: Neuer Sound und neue Werke warten auf das Publikum. Es werden Kompositionen präsentiert\, die erst kürzlich entstanden sind\, in vollem Arrangement. Latin\, Blues\, Fusion\, Rock\, New Age. Un dselbstverständlich seine virtuose Gitarre in verschiedenen Stilen.
URL:https://kulturladen.com/event/konzert-aleksey-revenko
CATEGORIES:Konzert
END:VEVENT
END:VCALENDAR