BEGIN:VCALENDAR
VERSION:2.0
PRODID:-//KULTURLADEN ST. GEORG e.V. / Hamburg - ECPv6.15.8//NONSGML v1.0//EN
CALSCALE:GREGORIAN
METHOD:PUBLISH
X-WR-CALNAME:KULTURLADEN ST. GEORG e.V. / Hamburg
X-ORIGINAL-URL:https://kulturladen.com
X-WR-CALDESC:Veranstaltungen für KULTURLADEN ST. GEORG e.V. / Hamburg
REFRESH-INTERVAL;VALUE=DURATION:PT1H
X-Robots-Tag:noindex
X-PUBLISHED-TTL:PT1H
BEGIN:VTIMEZONE
TZID:UTC
BEGIN:STANDARD
TZOFFSETFROM:+0000
TZOFFSETTO:+0000
TZNAME:UTC
DTSTART:20240101T000000
END:STANDARD
END:VTIMEZONE
BEGIN:VEVENT
DTSTART;TZID=UTC:20251121T200000
DTEND;TZID=UTC:20251121T220000
DTSTAMP:20260423T155252
CREATED:20251027T161307Z
LAST-MODIFIED:20251027T161307Z
UID:8875-1763755200-1763762400@kulturladen.com
SUMMARY:Smash Comedy | TIN* & Queer Open Mic
DESCRIPTION:Smash Comedy | TIN* & Queer Open Mic\nYeah – wir feiern die nächste Ausgabe unserer Smash Comedy Trans + Enby Special Show\, und Ihr könnt dabei sein!!! An diesem Abend gehört die Bühne hauptsächlich nicht-cis-gender Comedians. \nSMASH COMEDY\, Hamburgs queerfeministischer Stand Up Comedy Club\, feiert die FLINTA* & Queers der deutschen Comedyszene – die\, die in allen anderen Shows unterrepräsentiert sind. Eine Show ohne toxische Maskulinität\, Misogynie und Rassismus\, Ableismus\, Queer- und Transfeindlichkeit – ein Brave + Safer Space\, auch fürs Publikum. Mit maximalem Spaß und Diversity Power gegen Diskriminierung. Und dann so laut lachen\, dass patriarchale Strukturen ganz leise anfangen zu bröckeln… \nSMASH COMEDY ist eine Show mit neuen\, spannenden Perspektiven aufs Leben\, die Gesellschaft und das Menschsein. Solidarisiert euch\, educate yourself\, trainiert eure Empathie-Muskeln und kommt vorbei! \nFalls du selbst Trans* oder nichtbinär bist und mal bei uns spielen willst\, schreib uns eine Mail an smashcomedyshow@gmail.com\, und du kriegst einen Spot in einer unserer Shows! \n(FLINTA* steht für Frauen\, Lesben\, Intergeschlechtliche\, nichtbinäre\, transgender und agender Personen) \nPreisinformation:\n12 bis 20 Euro nach Selbsteinschätzung
URL:https://kulturladen.com/event/smash-comedy-tin-queer-open-mic
LOCATION:Kulturladen St.Georg\, Alexanderstraße 16\, Hamburg\, 20099\, Deutschland
CATEGORIES:Comedy
ATTACH;FMTTYPE=image/png:https://kulturladen.com/wp-content/uploads/2025/10/bYfvt4U2SduAkxzch248_2111.png
END:VEVENT
END:VCALENDAR